BEGIN:VCALENDAR
VERSION:2.0
PRODID:-//Paradigm Innovations - ECPv5.9.0//NONSGML v1.0//EN
CALSCALE:GREGORIAN
METHOD:PUBLISH
X-WR-CALNAME:Paradigm Innovations
X-ORIGINAL-URL:https://paradigminnovations.com.au
X-WR-CALDESC:Events for Paradigm Innovations
BEGIN:VTIMEZONE
TZID:Australia/Sydney
BEGIN:STANDARD
TZOFFSETFROM:+1100
TZOFFSETTO:+1000
TZNAME:AEST
DTSTART:20210403T160000
END:STANDARD
BEGIN:DAYLIGHT
TZOFFSETFROM:+1000
TZOFFSETTO:+1100
TZNAME:AEDT
DTSTART:20211002T160000
END:DAYLIGHT
END:VTIMEZONE
BEGIN:VEVENT
DTSTART;VALUE=DATE:20211021
DTEND;VALUE=DATE:20211023
DTSTAMP:20260425T105544
CREATED:20211006T120017Z
LAST-MODIFIED:20211008T120239Z
UID:13774-1634774400-1634947199@paradigminnovations.com.au
SUMMARY:Agile PMO Leading Change in the Organisation
DESCRIPTION:
URL:https://paradigminnovations.com.au/schedule/agile-pmo-leading-change-in-the-organisation/
ATTACH;FMTTYPE=image/jpeg:https://paradigminnovations.com.au/wp-content/uploads/2021/10/p24-01.jpg
END:VEVENT
END:VCALENDAR